BEGIN:VCALENDAR
VERSION:2.0
PRODID:-//Kanu-Club Bramsche von 1990 e.V.//NONSGML kigkonsult.se iCalcreat
 or 2.30.10//
CALSCALE:GREGORIAN
METHOD:PUBLISH
UID:d7611e7d-75f0-47ba-838b-a1f0e3b0e94c
X-WR-CALNAME:iCagenda
X-WR-CALDESC:Event Management Extension for Joomla!
X-WR-RELCALID:3E26604A-50F4-4449-8B3E-E4F4932D05B5
X-WR-TIMEZONE:UTC
BEGIN:VTIMEZONE
TZID:UTC
END:VTIMEZONE
BEGIN:VEVENT
UID:c3cbe2cc-1cdf-4af3-b0e8-52967493e035
DTSTAMP:20260421T085121Z
CATEGORIES:KC intern
CLASS:PUBLIC
DESCRIPTION:
DTSTART:20220924T000000Z
DTEND:20220924T000000Z
GEO:00;0
LOCATION:
ORGANIZER:
SEQUENCE:1
SUMMARY:KC-Winterwanderung
TRANSP:OPAQUE
URL:https://www.kanuclub-bramsche.de/index.php/component/icagenda/19-kc-win
 terwanderung/2022-09-24-00-00
END:VEVENT
END:VCALENDAR
